BEGIN:VCALENDAR
VERSION:2.0
PRODID:-//Carina Health Network - ECPv6.15.20//NONSGML v1.0//EN
CALSCALE:GREGORIAN
METHOD:PUBLISH
X-WR-CALNAME:Carina Health Network
X-ORIGINAL-URL:https://carinahealthnetwork.org
X-WR-CALDESC:Events for Carina Health Network
REFRESH-INTERVAL;VALUE=DURATION:PT1H
X-Robots-Tag:noindex
X-PUBLISHED-TTL:PT1H
BEGIN:VTIMEZONE
TZID:UTC
BEGIN:STANDARD
TZOFFSETFROM:+0000
TZOFFSETTO:+0000
TZNAME:UTC
DTSTART:20250101T000000
END:STANDARD
END:VTIMEZONE
BEGIN:VEVENT
DTSTART;TZID=UTC:20260427T100000
DTEND;TZID=UTC:20260427T110000
DTSTAMP:20260425T133809
CREATED:20260304T183414Z
LAST-MODIFIED:20260304T183414Z
UID:10000009-1777284000-1777287600@carinahealthnetwork.org
SUMMARY:Azara DRVS User Group (monthly)
DESCRIPTION:This user group is geared towards Azara data reporting and visualization system (DRVS) user adoption and peer conversation around data quality and performance. The group typically reviews DRVS functionality and discusses measures or popular topics. \nEmail Meredith Munoz to be added to the monthly invitation.
URL:https://carinahealthnetwork.org/event/azara-drvs-user-group-monthly/
END:VEVENT
BEGIN:VEVENT
DTSTART;TZID=UTC:20260427T120000
DTEND;TZID=UTC:20260427T130000
DTSTAMP:20260425T133809
CREATED:20260304T183518Z
LAST-MODIFIED:20260304T183518Z
UID:10000010-1777291200-1777294800@carinahealthnetwork.org
SUMMARY:Coding Peer Group (odd months)
DESCRIPTION:Topic: TBD \nJoin the Quality and Risk Adjustment Team’s Coding Peer Group\, a monthly gathering dedicated to supporting member coders in risk adjustment coding. \nThis group focuses on: \n\nSharing best practices to achieve accurate HCC diagnosis coding.\nTackling challenges in capturing the true health status of patients.\nBuilding a strong community of coders and providers.\n\nDon’t miss this opportunity to learn\, connect\, and grow alongside your peers. Together\, we’ll ensure coding excellence and improve patient care outcomes! \nEmail Brionna Benedetti with any questions. \nRegister now: https://zoom.us/meeting/register/6sxm1thaTviX7BD8wTxS_w
URL:https://carinahealthnetwork.org/event/coding-peer-group-odd-months/
END:VEVENT
BEGIN:VEVENT
DTSTART;TZID=UTC:20260428T150000
DTEND;TZID=UTC:20260428T160000
DTSTAMP:20260425T133809
CREATED:20260304T183549Z
LAST-MODIFIED:20260304T183549Z
UID:10000011-1777388400-1777392000@carinahealthnetwork.org
SUMMARY:VBC Performance Workgroup
DESCRIPTION:The Value-Based Care (VBC) Performance Workgroup reports to the Value-Based Care Committee. \nFor more information\, please contact Brandi Apodaca\, Chief Performance Officer.
URL:https://carinahealthnetwork.org/event/vbc-performance-workgroup/
END:VEVENT
END:VCALENDAR